BEGIN:VCALENDAR
VERSION:2.0
PRODID:-//Academie voor Schematherapie - ECPv6.15.20//NONSGML v1.0//EN
CALSCALE:GREGORIAN
METHOD:PUBLISH
X-WR-CALNAME:Academie voor Schematherapie
X-ORIGINAL-URL:https://www.academievoorschematherapie.nl
X-WR-CALDESC:Evenementen voor Academie voor Schematherapie
REFRESH-INTERVAL;VALUE=DURATION:PT1H
X-Robots-Tag:noindex
X-PUBLISHED-TTL:PT1H
BEGIN:VTIMEZONE
TZID:Europe/Amsterdam
BEGIN:DAYLIGHT
TZOFFSETFROM:+0100
TZOFFSETTO:+0200
TZNAME:CEST
DTSTART:20250330T010000
END:DAYLIGHT
BEGIN:STANDARD
TZOFFSETFROM:+0200
TZOFFSETTO:+0100
TZNAME:CET
DTSTART:20251026T010000
END:STANDARD
BEGIN:DAYLIGHT
TZOFFSETFROM:+0100
TZOFFSETTO:+0200
TZNAME:CEST
DTSTART:20260329T010000
END:DAYLIGHT
BEGIN:STANDARD
TZOFFSETFROM:+0200
TZOFFSETTO:+0100
TZNAME:CET
DTSTART:20261025T010000
END:STANDARD
BEGIN:DAYLIGHT
TZOFFSETFROM:+0100
TZOFFSETTO:+0200
TZNAME:CEST
DTSTART:20270328T010000
END:DAYLIGHT
BEGIN:STANDARD
TZOFFSETFROM:+0200
TZOFFSETTO:+0100
TZNAME:CET
DTSTART:20271031T010000
END:STANDARD
END:VTIMEZONE
BEGIN:VEVENT
DTSTART;TZID=Europe/Amsterdam:20260604T100000
DTEND;TZID=Europe/Amsterdam:20260605T171500
DTSTAMP:20260419T215655
CREATED:20250707T091936Z
LAST-MODIFIED:20260206T084016Z
UID:4239-1780567200-1780679700@www.academievoorschematherapie.nl
SUMMARY:Workshop - Schematherapie voor eetstoornissen (2 dgn)
DESCRIPTION:Denk\nSchematherapie als waardevolle toevoeging aan de behandeling van ernstige eetstoornissen. Kernthema’s zijn perfectionisme\, lage zelfwaardering en rigiditeit. Samen met de cliënt de oorsprong en de functie van de eetstoornis verbinden aan de huidige problematiek. \nVoel\nKleine groepen met maximaal 14 cursisten. Persoonlijke aandacht van twee docenten. Een vertrouwd en veilig oefenklimaat. Mogen leren en prutsen\, een belangrijk parallelproces in de therapie met deze doelgroep. \nDoe\nVol met ervaringsgerichte oefeningen. Zoals het motiveren om de perfectionistische overcontroleerder stap voor stap opzij te zetten. Of tegen de weerstand in contact maken met het kwetsbare kind. \nDoelgroep\nHulpverleners die werken met cliënten met (hardnekkige) eetstoornissen en een basisopleiding hebben genoten op het gebied van  schematherapie. \nAccreditatie\nVGCt nascholing: 12 punten\nVST: 16 punten\nFGzPt: 12 punten \nDocenten\nWiesette Krol en Judith Vanhommerig \nLocatie\nHet Werkgebouw\, De Griend 2\, A4\, Maastricht \nData\n4 & 5 juni 2026 \nPrijs\n€ 570\,00 (inclusief heerlijke lunch)
URL:https://www.academievoorschematherapie.nl/event/workshop-schematherapie-voor-eetstoornissen-2-dgn-2/
LOCATION:Maastricht\, Porseleinstraat 1\, Maastricht\, 6216 BP\, Nederland
ORGANIZER;CN="Academie voor Schematherapie":MAILTO:info@academievoorschematherapie.nl
END:VEVENT
END:VCALENDAR