BEGIN:VCALENDAR
VERSION:2.0
PRODID:-//Academie voor Schematherapie - ECPv6.15.20//NONSGML v1.0//EN
CALSCALE:GREGORIAN
METHOD:PUBLISH
X-WR-CALNAME:Academie voor Schematherapie
X-ORIGINAL-URL:https://www.academievoorschematherapie.nl
X-WR-CALDESC:Evenementen voor Academie voor Schematherapie
REFRESH-INTERVAL;VALUE=DURATION:PT1H
X-Robots-Tag:noindex
X-PUBLISHED-TTL:PT1H
BEGIN:VTIMEZONE
TZID:Europe/Amsterdam
BEGIN:DAYLIGHT
TZOFFSETFROM:+0100
TZOFFSETTO:+0200
TZNAME:CEST
DTSTART:20240331T010000
END:DAYLIGHT
BEGIN:STANDARD
TZOFFSETFROM:+0200
TZOFFSETTO:+0100
TZNAME:CET
DTSTART:20241027T010000
END:STANDARD
BEGIN:DAYLIGHT
TZOFFSETFROM:+0100
TZOFFSETTO:+0200
TZNAME:CEST
DTSTART:20250330T010000
END:DAYLIGHT
BEGIN:STANDARD
TZOFFSETFROM:+0200
TZOFFSETTO:+0100
TZNAME:CET
DTSTART:20251026T010000
END:STANDARD
BEGIN:DAYLIGHT
TZOFFSETFROM:+0100
TZOFFSETTO:+0200
TZNAME:CEST
DTSTART:20260329T010000
END:DAYLIGHT
BEGIN:STANDARD
TZOFFSETFROM:+0200
TZOFFSETTO:+0100
TZNAME:CET
DTSTART:20261025T010000
END:STANDARD
END:VTIMEZONE
BEGIN:VEVENT
DTSTART;TZID=Europe/Amsterdam:20251007T100000
DTEND;TZID=Europe/Amsterdam:20251008T171500
DTSTAMP:20260420T050606
CREATED:20240313T134710Z
LAST-MODIFIED:20250213T064548Z
UID:3358-1759831200-1759943700@www.academievoorschematherapie.nl
SUMMARY:Workshop - Schematherapie en boosheid (2 dgn)
DESCRIPTION:Denk\nBoosheid is een belangrijk gevoel\, maar veroorzaakt ook vaak ingewikkelde situaties in de therapiekamer.  Hoe onderscheid je verschillende soorten boosheid? Is het boze kind\, boze beschermer of een pest- en aanval modus of een interne criticus? Hoe onderscheid je de verschillende modi? Hoe reageer je als therapeut? \nVoel\nVind jij boosheid ook ongemakkelijk? Weet je niet goed wat je er mee aan moet tijdens de therapie.  Vind je het lastig om je irritatie te laten zien? Weet je niet wat je kan laten zien en wat niet. \nDoe\nVol met ervaringsgerichte oefeningen. De hele dag aan het werk met boosheid. Dat lucht lekker op en helpt je ook om er minder onzeker over te zijn. \nDoelgroep\nHulpverleners die werken met cliënten met persoonlijkheidsproblematiek en een basisopleiding hebben genoten op het gebied van de Schematherapie. \nAccreditatie\nVSt nascholing: 16 punten \nDocenten\nWiesette Krol en Judith Hollands \nLocatie\nMaastricht\, Porseleinstraat 1 \nData\n07 & 08 oktober 2025 \nPrijs\n€ 570\,00 (inclusief heerlijke lunch)
URL:https://www.academievoorschematherapie.nl/event/workshop-schematherapie-en-boosheid-2-dgn/
LOCATION:Maastricht\, Porseleinstraat 1\, Maastricht\, 6216 BP\, Nederland
ORGANIZER;CN="Academie voor Schematherapie":MAILTO:info@academievoorschematherapie.nl
END:VEVENT
END:VCALENDAR