BEGIN:VCALENDAR
VERSION:2.0
PRODID:-//Academie voor Schematherapie - ECPv6.15.20//NONSGML v1.0//EN
CALSCALE:GREGORIAN
METHOD:PUBLISH
X-WR-CALNAME:Academie voor Schematherapie
X-ORIGINAL-URL:https://www.academievoorschematherapie.nl
X-WR-CALDESC:Evenementen voor Academie voor Schematherapie
REFRESH-INTERVAL;VALUE=DURATION:PT1H
X-Robots-Tag:noindex
X-PUBLISHED-TTL:PT1H
BEGIN:VTIMEZONE
TZID:Europe/Amsterdam
BEGIN:DAYLIGHT
TZOFFSETFROM:+0100
TZOFFSETTO:+0200
TZNAME:CEST
DTSTART:20220327T010000
END:DAYLIGHT
BEGIN:STANDARD
TZOFFSETFROM:+0200
TZOFFSETTO:+0100
TZNAME:CET
DTSTART:20221030T010000
END:STANDARD
BEGIN:DAYLIGHT
TZOFFSETFROM:+0100
TZOFFSETTO:+0200
TZNAME:CEST
DTSTART:20230326T010000
END:DAYLIGHT
BEGIN:STANDARD
TZOFFSETFROM:+0200
TZOFFSETTO:+0100
TZNAME:CET
DTSTART:20231029T010000
END:STANDARD
BEGIN:DAYLIGHT
TZOFFSETFROM:+0100
TZOFFSETTO:+0200
TZNAME:CEST
DTSTART:20240331T010000
END:DAYLIGHT
BEGIN:STANDARD
TZOFFSETFROM:+0200
TZOFFSETTO:+0100
TZNAME:CET
DTSTART:20241027T010000
END:STANDARD
END:VTIMEZONE
BEGIN:VEVENT
DTSTART;TZID=Europe/Amsterdam:20230622T094500
DTEND;TZID=Europe/Amsterdam:20230623T170000
DTSTAMP:20260425T163427
CREATED:20220811T083928Z
LAST-MODIFIED:20230125T102446Z
UID:1800-1687427100-1687539600@www.academievoorschematherapie.nl
SUMMARY:Workshop - Schematherapie voor eetstoornissen (2 dagen)
DESCRIPTION:Denk\nSchematherapie als waardevolle toevoeging aan de behandeling van ernstige eetstoornissen. Kernthema’s zijn perfectionisme\, lage zelfwaardering en rigiditeit. Samen met de cliënt de oorsprong en de functie van de eetstoornis verbinden aan de huidige problematiek. \nVoel\nKleine groepen met maximaal 14 cursisten. Persoonlijke aandacht van twee docenten. Een vertrouwd en veilig oefenklimaat. Mogen leren en prutsen\, een belangrijk parallelproces in de therapie met deze doelgroep. \nDoe\nVol met ervaringsgerichte oefeningen. Zoals het motiveren om de perfectionistische overcontroleerder stap voor stap opzij te zetten. Of tegen de weerstand in contact maken met het kwetsbare kind. \nDoelgroep\nHulpverleners die werken met cliënten met (hardnekkige) eetstoornissen en een basisopleiding hebben genoten op het gebied van  schematherapie. \nAccreditatie\nVSt: 12 punten\nRegister Vaktherapie. Onder voorbehoud van goedkeuring van de aanvraag. In het verleden zijn onze aanvragen steeds gehonoreerd. \nDocenten\nWiesette Krol\, Judith Vanhommerig \nLocatie\nMaastricht \nData\n22 en 23 juni 2023 \nPrijs\n€ 519\,00
URL:https://www.academievoorschematherapie.nl/event/workshop-schematherapie-voor-eetstoornissen-2-dagen/
LOCATION:Maastricht\, Porseleinstraat 1\, Maastricht\, 6216 BP\, Nederland
ORGANIZER;CN="Academie voor Schematherapie":MAILTO:info@academievoorschematherapie.nl
END:VEVENT
END:VCALENDAR