BEGIN:VCALENDAR
VERSION:2.0
PRODID:-//Academie voor Schematherapie - ECPv6.15.20//NONSGML v1.0//EN
CALSCALE:GREGORIAN
METHOD:PUBLISH
X-WR-CALNAME:Academie voor Schematherapie
X-ORIGINAL-URL:https://www.academievoorschematherapie.nl
X-WR-CALDESC:Evenementen voor Academie voor Schematherapie
REFRESH-INTERVAL;VALUE=DURATION:PT1H
X-Robots-Tag:noindex
X-PUBLISHED-TTL:PT1H
BEGIN:VTIMEZONE
TZID:Europe/Amsterdam
BEGIN:DAYLIGHT
TZOFFSETFROM:+0100
TZOFFSETTO:+0200
TZNAME:CEST
DTSTART:20250330T010000
END:DAYLIGHT
BEGIN:STANDARD
TZOFFSETFROM:+0200
TZOFFSETTO:+0100
TZNAME:CET
DTSTART:20251026T010000
END:STANDARD
BEGIN:DAYLIGHT
TZOFFSETFROM:+0100
TZOFFSETTO:+0200
TZNAME:CEST
DTSTART:20260329T010000
END:DAYLIGHT
BEGIN:STANDARD
TZOFFSETFROM:+0200
TZOFFSETTO:+0100
TZNAME:CET
DTSTART:20261025T010000
END:STANDARD
BEGIN:DAYLIGHT
TZOFFSETFROM:+0100
TZOFFSETTO:+0200
TZNAME:CEST
DTSTART:20270328T010000
END:DAYLIGHT
BEGIN:STANDARD
TZOFFSETFROM:+0200
TZOFFSETTO:+0100
TZNAME:CET
DTSTART:20271031T010000
END:STANDARD
END:VTIMEZONE
BEGIN:VEVENT
DTSTART;TZID=Europe/Amsterdam:20261105T100000
DTEND;TZID=Europe/Amsterdam:20261106T171500
DTSTAMP:20260419T084141
CREATED:20240327T111949Z
LAST-MODIFIED:20260129T102019Z
UID:3408-1793872800-1793985300@www.academievoorschematherapie.nl
SUMMARY:Workshop - Een kortdurende schemagroep: "Ontdek jezelf via schema's en modi" -   (2 dgn)
DESCRIPTION:Denk\n\n\n\nLange wachtlijsten in de GGZ hebben ons geïnspireerd om  een kortdurend maar toch inzichtelijk traject binnen de schematherapie aan te bieden. Voor sommige cliënten biedt dit traject\, gericht op psycho-educatie en zelfonderzoek door te ervaren\, al zoveel inzicht en hulp dat verdere therapie niet nodig is. Voor anderen is het een opwarmer voor vervolgtherapie en zet het alvast de toon. Dit groepsaanbod is gericht op de optimale balans tussen een beetje openleggen en tegelijkertijd voorzichtig zijn. Hoe is je houding in een kortdurend traject waarbij je niet te oppervlakkig wilt werken\, maar ook niet te diepgaand. Je denkt samen na over hoe je een levendige casusconceptualisatie kunt maken. Je leert hoe je in een korte tijd inzicht in en overzicht over de schema’s en de modi van de cliënt krijgt en hoe je de cliënt hierbij betrekt. \n\n\n\nVoel\n\n\n\nErvaren dat er al veel mogelijk is in een ‘ touch and go’ setting.  Voelen hoe je dit doet met de gereedschapskist van schematherapie. Hoe je doseert\, spiegelt\, begrenst\, een duidelijke structuur aanbiedt die emoties reguleert. \n\n\n\nOndervinden van de mogelijkheden binnen het “ontdek jezelf via schema’s en modi” programma. Meemaken dat ‘minder’ ook ‘meer’ kan zijn.  Meemaken hoe deze manier van werken de doorstroom kan versnellen. \n\n\n\nDoe\n\n\n\nDoorlopen van het programma. Inzicht in oefeningen door deze zelf te doen en te ervaren. Binnen de gereedschapskist van schematherapie handelen. Veel oefenen met – zachte grenzen en spiegelingen\, – bij het programma blijven – kordaat handelen – psycho-educatie en stimuleren van interactie De cliënt laten ervaren dat dat pijn gerepareerd kan worden door de schematherapie-aanpak. \n\n\n\nDoelgroep\n\n\n\nHulpverleners die minimaal een basiscursus voor schematherapie hebben gevolgd. \n\n\n\n\nAccreditatie\nAccreditatie wordt aangevraagd voor nascholing bij de VST.  \nDocenten\nRosi Reubsaet en Judith Vanhommerig \nLocatie\nHet Werkgebouw\, De Griend 2\, A4\, Maastricht \nData\n5 & 6 november 2026 \nKosten\n€ 570\,00 (inclusief heerlijke lunch)
URL:https://www.academievoorschematherapie.nl/event/workshop-ontdek-jezelf-via-schemas-en-modi-2-dgn/
LOCATION:Maastricht\, Porseleinstraat 1\, Maastricht\, 6216 BP\, Nederland
ORGANIZER;CN="Academie voor Schematherapie":MAILTO:info@academievoorschematherapie.nl
END:VEVENT
END:VCALENDAR